BEGIN:VCALENDAR
VERSION:2.0
PRODID:-//wp-events-plugin.com//7.2.3.1//EN
TZID:Europe/Paris
X-WR-TIMEZONE:Europe/Paris
BEGIN:VEVENT
UID:86@kgso.fr
DTSTART;TZID=Europe/Paris:20260518T113000
DTEND;TZID=Europe/Paris:20260518T121500
DTSTAMP:20260423T070403Z
URL:https://kgso.fr/events/webinaire19-du-groupe-de-travail-biologie-spati
 ale
SUMMARY:Webinaire#19 du groupe de travail "Biologie Spatiale"
DESCRIPTION:[fusion_builder_container type="flex" hundred_percent="no" hund
 red_percent_height="no" hundred_percent_height_scroll="no" align_content="
 stretch" flex_align_items="flex-start" flex_justify_content="flex-start" f
 lex_wrap="wrap" hundred_percent_height_center_content="yes" equal_height_c
 olumns="no" container_tag="div" hide_on_mobile="small-visibility\,medium-v
 isibility\,large-visibility" status="published" border_style="solid" box_s
 hadow="no" box_shadow_blur="0" box_shadow_spread="0" gradient_start_positi
 on="0" gradient_end_position="100" gradient_type="linear" radial_direction
 ="center center" linear_angle="180" background_position="center center" ba
 ckground_repeat="no-repeat" fade="no" background_parallax="none" enable_mo
 bile="no" parallax_speed="0.3" background_blend_mode="none" background_sli
 der_skip_lazy_loading="no" background_slider_loop="yes" background_slider_
 pause_on_hover="no" background_slider_slideshow_speed="5000" background_sl
 ider_animation="fade" background_slider_direction="up" background_slider_a
 nimation_speed="800" video_aspect_ratio="16:9" video_loop="yes" video_mute
 ="yes" pattern_bg="none" pattern_bg_style="default" pattern_bg_opacity="10
 0" pattern_bg_blend_mode="normal" mask_bg="none" mask_bg_style="default" m
 ask_bg_opacity="100" mask_bg_transform="left" mask_bg_blend_mode="normal" 
 absolute="off" absolute_devices="small\,medium\,large" sticky="off" sticky
 _devices="small-visibility\,medium-visibility\,large-visibility" sticky_tr
 ansition_offset="0" scroll_offset="0" animation_direction="left" animation
 _speed="0.3" animation_delay="0" filter_hue="0" filter_saturation="100" fi
 lter_brightness="100" filter_contrast="100" filter_invert="0" filter_sepia
 ="0" filter_opacity="100" filter_blur="0" filter_hue_hover="0" filter_satu
 ration_hover="100" filter_brightness_hover="100" filter_contrast_hover="10
 0" filter_invert_hover="0" filter_sepia_hover="0" filter_opacity_hover="10
 0" filter_blur_hover="0" admin_toggled="no"][fusion_builder_row][fusion_bu
 ilder_column type="1_1" layout="1_1" align_self="auto" content_layout="col
 umn" align_content="flex-start" valign_content="flex-start" content_wrap="
 wrap" center_content="no" column_tag="div" target="_self" hide_on_mobile="
 small-visibility\,medium-visibility\,large-visibility" sticky_display="nor
 mal\,sticky" order_medium="0" order_small="0" hover_type="none" border_sty
 le="solid" box_shadow="no" box_shadow_blur="0" box_shadow_spread="0" backg
 round_type="single" gradient_start_position="0" gradient_end_position="100
 " gradient_type="linear" radial_direction="center center" linear_angle="18
 0" lazy_load="none" background_position="left top" background_repeat="no-r
 epeat" background_blend_mode="none" background_slider_skip_lazy_loading="n
 o" background_slider_loop="yes" background_slider_pause_on_hover="no" back
 ground_slider_slideshow_speed="5000" background_slider_animation="fade" ba
 ckground_slider_direction="up" background_slider_animation_speed="800" sti
 cky="off" sticky_devices="small-visibility\,medium-visibility\,large-visib
 ility" absolute="off" filter_type="regular" filter_hover_element="self" fi
 lter_hue="0" filter_saturation="100" filter_brightness="100" filter_contra
 st="100" filter_invert="0" filter_sepia="0" filter_opacity="100" filter_bl
 ur="0" filter_hue_hover="0" filter_saturation_hover="100" filter_brightnes
 s_hover="100" filter_contrast_hover="100" filter_invert_hover="0" filter_s
 epia_hover="0" filter_opacity_hover="100" filter_blur_hover="0" transform_
 type="regular" transform_hover_element="self" transform_scale_x="1" transf
 orm_scale_y="1" transform_translate_x="0" transform_translate_y="0" transf
 orm_rotate="0" transform_skew_x="0" transform_skew_y="0" transform_scale_x
 _hover="1" transform_scale_y_hover="1" transform_translate_x_hover="0" tra
 nsform_translate_y_hover="0" transform_rotate_hover="0" transform_skew_x_h
 over="0" transform_skew_y_hover="0" transition_duration="300" transition_e
 asing="ease" scroll_motion_devices="small-visibility\,medium-visibility\,l
 arge-visibility" animation_direction="left" animation_speed="0.3" animatio
 n_delay="0" last="true" border_position="all" first="true" min_height="" l
 ink=""][fusion_title title_type="text" scroll_reveal_effect="color_change"
  scroll_reveal_basis="chars" scroll_reveal_behavior="always" scroll_reveal
 _duration="500" scroll_reveal_stagger="200" scroll_reveal_delay="0" scroll
 _reveal_above_fold="yes" marquee_direction="left" marquee_mask_edges="no" 
 marquee_speed="15000" rotation_effect="bounceIn" display_time="1200" highl
 ight_effect="circle" loop_animation="once" highlight_animation_duration="1
 500" highlight_width="9" highlight_smudge_effect="no" highlight_top_margin
 ="0" before_text="" rotation_text="" highlight_text="" after_text="" awb-s
 witch-editor-focus="" title_link="off" link_url="" link_target="_self" hid
 e_on_mobile="small-visibility\,medium-visibility\,large-visibility" sticky
 _display="normal\,sticky" class="" id="" html_attributes="W10=" content_al
 ign_medium="" content_align_small="" content_align="left" size="1" animate
 d_font_size="" fusion_font_family_title_font="" fusion_font_variant_title_
 font="" font_size="" line_height="" letter_spacing="" text_transform="" te
 xt_color="" hue="" saturation="" lightness="" alpha="" animated_text_color
 ="" highlight_color="" text_shadow="no" text_shadow_vertical="" text_shado
 w_horizontal="" text_shadow_blur="0" text_shadow_color="" text_stroke="no"
  text_stroke_size="1" text_stroke_color="" text_overflow="none" margin_top
 _medium="" margin_right_medium="" margin_bottom_medium="" margin_left_medi
 um="" margin_top_small="" margin_right_small="" margin_bottom_small="" mar
 gin_left_small="" margin_top="" margin_right="" margin_bottom="" margin_le
 ft="" margin_top_mobile="" margin_bottom_mobile="" gradient_font="no" grad
 ient_start_color="" gradient_end_color="" gradient_start_position="0" grad
 ient_end_position="100" gradient_type="linear" radial_direction="center ce
 nter" linear_angle="180" style_type="default" sep_color="" link_color="" l
 ink_hover_color="" render_logics="" animation_type="" animation_direction=
 "left" animation_color="" animation_speed="0.3" animation_delay="0" animat
 ion_offset="" logics=""]\n45 minutes Inside - Spatial proteomics\n[/fusion
 _title][fusion_text admin_label="" awb-switch-editor-focus="" columns="" c
 olumn_min_width="" column_spacing="" rule_style="" rule_size="" rule_color
 ="" hue="" saturation="" lightness="" alpha="" user_select="" content_alig
 nment_medium="" content_alignment_small="" content_alignment="justify" dis
 able_idd="no" hide_on_mobile="small-visibility\,medium-visibility\,large-v
 isibility" sticky_display="normal\,sticky" class="" id="" html_attributes=
 "W10=" width_medium="" width_small="" width="" min_width_medium="" min_wid
 th_small="" min_width="" max_width_medium="" max_width_small="" max_width=
 "" margin_top_medium="" margin_right_medium="" margin_bottom_medium="" mar
 gin_left_medium="" margin_top_small="" margin_right_small="" margin_bottom
 _small="" margin_left_small="" margin_top="" margin_right="" margin_bottom
 ="" margin_left="" fusion_font_family_text_font="" fusion_font_variant_tex
 t_font="" font_size="" line_height="" letter_spacing="" text_transform="" 
 text_color="" render_logics="" logics="" animation_type="" animation_direc
 tion="left" animation_color="" animation_speed="0.3" animation_delay="0" a
 nimation_offset=""]\nLe groupe de travail "Biologie Spatiale" du Cancérop
 ôle GSO  vous convie à son 19ème webinaire le lundi 18 mai à 11h30.\
 nCette 19ème édition sera présentée par Anne-Aurélie RAYMOND\, ingén
 ieure de Recherche Inserm\, directrice technique de la plateforme OncoPro
 t (UAR TBMCore) à Bordeaux qui a une expertise spécifique en protéomiq
 ue sur tissus fixés FFPE et dont Frédéric Saltel a la direction scienti
 fique.\n\nElle nous présentera les dernières avancées en protéomique s
 patiale supervisée\, une approche combinant microdissection laser et spec
 trométrie de masse\nLa présentation se conclura par un échange dédié 
 à vos questions pratiques.\n\nAnne-Aurélie Raymond\, ingénieure de Rech
 erche Inserm\, directrice technique de la plateforme OncoProt (UAR TBMCo
 re) à Bordeaux qui a une expertise spécifique en protéomique sur tissu
 s fixés FFPE et dont Frédéric Saltel a la direction scientifique\n\n[/f
 usion_text][fusion_imageframe image_id="2062|medium" custom_aspect_ratio="
 100" lightbox="no" linktarget="_self" hide_on_mobile="small-visibility\,me
 dium-visibility\,large-visibility" sticky_display="normal\,sticky" align_m
 edium="none" align_small="none" align="center" hover_type="none" magnify_d
 uration="120" scroll_height="100" scroll_speed="1" caption_style="off" cap
 tion_align_medium="none" caption_align_small="none" caption_align="none" c
 aption_title_tag="2" animation_direction="left" animation_speed="0.3" anim
 ation_delay="0" filter_hue="0" filter_saturation="100" filter_brightness="
 100" filter_contrast="100" filter_invert="0" filter_sepia="0" filter_opaci
 ty="100" filter_blur="0" filter_hue_hover="0" filter_saturation_hover="100
 " filter_brightness_hover="100" filter_contrast_hover="100" filter_invert_
 hover="0" filter_sepia_hover="0" filter_opacity_hover="100" filter_blur_ho
 ver="0"]https://kgso.fr/wp-content/uploads/2024/12/CGSO_Comm_Bandeau_BioSp
 a_Webinaire_vF-300x169.png[/fusion_imageframe][fusion_section_separator di
 vider_type="slant" divider_height="25px" divider_repeat_medium="1" divider
 _repeat_small="1" divider_repeat="1" divider_position="right" divider_cand
 y="bottom" hide_on_mobile="small-visibility\,medium-visibility\,large-visi
 bility" backgroundcolor="#ffffff" /][fusion_button link="https://forms.off
 ice.com/pages/responsepage.aspx?id=2TQuxc6Dh0quYKgVoNNaVYDd8YoWZSRGrHHNOUf
 Fg_hUQzU5S1FIUFBOTTRKNEZQUUdRN00wS0hWTy4u" target="_blank" aria_role_butto
 n="0" alignment="center" hide_on_mobile="small-visibility\,medium-visibili
 ty\,large-visibility" sticky_display="normal\,sticky" color="default" line
 ar_angle="180" stretch="default" icon_position="left" icon_divider="no" ho
 ver_transition="none" animation_direction="left" animation_speed="0.3" ani
 mation_delay="0"]Inscription à la série de Webinaires 45 minutes Inside 
 *[/fusion_button][fusion_text hide_on_mobile="small-visibility\,medium-vis
 ibility\,large-visibility" sticky_display="normal\,sticky" animation_direc
 tion="left" animation_speed="0.3" animation_delay="0"]\n\nN'hésitez pas 
 à diffuser le message autour de vous\n\n *Il n'est pas nécessaire de vo
 us réinscrire si vous avez déjà participé à un wébinaire\, le lien p
 our vous connecter est inchangé et vous sera rappelé\n\n[/fusion_text][/
 fusion_builder_column][/fusion_builder_row][/fusion_builder_container]
ATTACH;FMTTYPE=image/jpeg:https://kgso.fr/wp-content/uploads/2024/12/CGSO_
 Comm_Bandeau_BioSpa_Webinaire_vF.png
CATEGORIES:0Webinaire,Biologie Spatiale,Evènement
LOCATION:https://forms.office.com/pages/responsepage.aspx?id=2TQuxc6Dh0quYK
 gVoNNaVYDd8YoWZSRGrHHNOUfFg_hUQzU5S1FIUFBOTTRKNEZQUUdRN00wS0hWTy4u&route=s
 horturl
END:VEVENT
BEGIN:VTIMEZONE
TZID:Europe/Paris
X-LIC-LOCATION:Europe/Paris
BEGIN:DAYLIGHT
DTSTART:20260329T030000
TZOFFSETFROM:+0100
TZOFFSETTO:+0200
TZNAME:CEST
END:DAYLIGHT
END:VTIMEZONE
END:VCALENDAR