BEGIN:VCALENDAR
VERSION:2.0
PRODID:-//wp-events-plugin.com//7.2.3.1//EN
TZID:Europe/Paris
X-WR-TIMEZONE:Europe/Paris
BEGIN:VEVENT
UID:60@kgso.fr
DTSTART;TZID=Europe/Paris;VALUE=DATE:20250710
DTEND;TZID=Europe/Paris;VALUE=DATE:20250711
DTSTAMP:20250627T073714Z
URL:https://kgso.fr/events/ia-sante-10-juillet-bordeaux
SUMMARY:IA en santé : du fondamental à la clinique
DESCRIPTION:[fusion_builder_container type="flex" hundred_percent="no" equa
 l_height_columns="no" menu_anchor="" hide_on_mobile="small-visibility\,med
 ium-visibility\,large-visibility" class="" id="" background_color="" backg
 round_image="" background_position="center center" background_repeat="no-r
 epeat" fade="no" background_parallax="none" parallax_speed="0.3" video_mp4
 ="" video_webm="" video_ogv="" video_url="" video_aspect_ratio="16:9" vide
 o_loop="yes" video_mute="yes" overlay_color="" video_preview_image="" bord
 er_color="" border_style="solid" padding_top="" padding_bottom="" padding_
 left="" padding_right=""][fusion_builder_row][fusion_builder_column type="
 1_1" layout="1_1" background_position="left top" background_color="" borde
 r_color="" border_style="solid" border_position="all" spacing="yes" backgr
 ound_image="" background_repeat="no-repeat" padding_top="" padding_right="
 " padding_bottom="" padding_left="" margin_top="0px" margin_bottom="0px" c
 lass="" id="" animation_type="" animation_speed="0.3" animation_direction=
 "left" hide_on_mobile="small-visibility\,medium-visibility\,large-visibili
 ty" center_content="no" last="true" min_height="" hover_type="none" link="
 " border_sizes_top="" border_sizes_bottom="" border_sizes_left="" border_s
 izes_right="" first="true"][fusion_imageframe image_id="3087|large" aspect
 _ratio="" custom_aspect_ratio="100" aspect_ratio_position="" skip_lazy_loa
 d="" lightbox="no" gallery_id="" lightbox_image="" lightbox_image_id="" al
 t="" link="" linktarget="_self" hide_on_mobile="small-visibility\,medium-v
 isibility\,large-visibility" sticky_display="normal\,sticky" max_width="" 
 sticky_max_width="" align_medium="none" align_small="none" align="center" 
 mask="" custom_mask="" mask_size="" mask_custom_size="" mask_position="" m
 ask_custom_position="" mask_repeat="" style_type="" blur="" stylecolor="" 
 hue="" saturation="" lightness="" alpha="" hover_type="none" magnify_full_
 img="" magnify_duration="120" scroll_height="100" scroll_speed="1" margin_
 top_medium="" margin_right_medium="" margin_bottom_medium="" margin_left_m
 edium="" margin_top_small="" margin_right_small="" margin_bottom_small="" 
 margin_left_small="" margin_top="" margin_right="" margin_bottom="" margin
 _left="" bordersize="" bordercolor="" borderradius="" z_index="" caption_s
 tyle="off" caption_align_medium="none" caption_align_small="none" caption_
 align="none" caption_title="" caption_text="" caption_title_tag="2" fusion
 _font_family_caption_title_font="" fusion_font_variant_caption_title_font=
 "" caption_title_size="" caption_title_line_height="" caption_title_letter
 _spacing="" caption_title_transform="" caption_title_color="" caption_back
 ground_color="" fusion_font_family_caption_text_font="" fusion_font_varian
 t_caption_text_font="" caption_text_size="" caption_text_line_height="" ca
 ption_text_letter_spacing="" caption_text_transform="" caption_text_color=
 "" caption_border_color="" caption_overlay_color="" caption_margin_top="" 
 caption_margin_right="" caption_margin_bottom="" caption_margin_left="" an
 imation_type="" animation_direction="left" animation_color="" animation_sp
 eed="0.3" animation_delay="0" animation_offset="" filter_hue="0" filter_sa
 turation="100" filter_brightness="100" filter_contrast="100" filter_invert
 ="0" filter_sepia="0" filter_opacity="100" filter_blur="0" filter_hue_hove
 r="0" filter_saturation_hover="100" filter_brightness_hover="100" filter_c
 ontrast_hover="100" filter_invert_hover="0" filter_sepia_hover="0" filter_
 opacity_hover="100" filter_blur_hover="0" class="" id=""]https://kgso.fr/w
 p-content/uploads/2025/06/JOBIM2025-1024x446.png[/fusion_imageframe][fusio
 n_section_separator divider_type="slant" divider_repeat_medium="1" divider
 _repeat_small="1" divider_repeat="1" divider_position="right" divider_cand
 y="top" hide_on_mobile="small-visibility\,medium-visibility\,large-visibil
 ity" backgroundcolor="#ffffff" /][fusion_text columns="" column_min_width=
 "" column_spacing="" rule_style="" rule_size="" rule_color="" hue="" satur
 ation="" lightness="" alpha="" user_select="" content_alignment_medium="" 
 content_alignment_small="" content_alignment="" hide_on_mobile="small-visi
 bility\,medium-visibility\,large-visibility" sticky_display="normal\,stick
 y" class="" id="" margin_top="" margin_right="" margin_bottom="" margin_le
 ft="" fusion_font_family_text_font="" fusion_font_variant_text_font="" fon
 t_size="" line_height="" letter_spacing="" text_transform="" text_color=""
  animation_type="" animation_direction="left" animation_color="" animation
 _speed="0.3" animation_delay="0" animation_offset="" logics=""]\n\nLe mini
 -symposium « IA en Santé : du fondamental à la clinique » se dérouler
 a le 10 juillet 2025 à Bordeaux.\n\nIl vise à explorer les contributions
  de l’intelligence artificielle (IA) en santé\, en mettant un accent pa
 rticulier sur son application dans le diagnostic et le traitement en milie
 u hospitalier. Il se tiendra dans le cadre de l'édition 2025 de JOBIM (8-
 11 juillet).\n\n[/fusion_text][fusion_button link="https://jobim2025.labri
 .fr/#program" title="" target="_blank" link_attributes="" aria_role_button
 ="0" alignment_medium="" alignment_small="" alignment="left" modal="" hide
 _on_mobile="small-visibility\,medium-visibility\,large-visibility" sticky_
 display="normal\,sticky" class="" id="" color="custom" button_gradient_top
 _color_hover="" hue="" saturation="" lightness="" alpha="" button_gradient
 _top_color="var(--awb-color1)" button_gradient_bottom_color_hover="" butto
 n_gradient_bottom_color="var(--awb-color1)" gradient_start_position="" gra
 dient_end_position="" gradient_type="" radial_direction="" linear_angle="1
 80" accent_hover_color="" accent_color="var(--awb-color5)" type="" bevel_c
 olor="" bevel_color_hover="" border_top="3px" border_right="3px" border_bo
 ttom="3px" border_left="3px" border_radius_top_left="8px" border_radius_to
 p_right="8px" border_radius_bottom_right="8px" border_radius_bottom_left="
 8px" border_hover_color="" border_color="var(--awb-color5)" size="" paddin
 g_top="" padding_right="" padding_bottom="" padding_left="" fusion_font_fa
 mily_button_font="" fusion_font_variant_button_font="" font_size="" line_h
 eight="" letter_spacing="" text_transform="" stretch="default" margin_top=
 "" margin_right="" margin_bottom="" margin_left="" icon="fa-book-open fas"
  icon_position="left" icon_divider="no" hover_transition="icon_position" a
 nimation_type="" animation_direction="left" animation_color="" animation_s
 peed="0.3" animation_delay="0" animation_offset=""]Programme JOBIM[/fusion
 _button][fusion_text columns="" column_min_width="" column_spacing="" rule
 _style="" rule_size="" rule_color="" hue="" saturation="" lightness="" alp
 ha="" user_select="" content_alignment_medium="" content_alignment_small="
 " content_alignment="" hide_on_mobile="small-visibility\,medium-visibility
 \,large-visibility" sticky_display="normal\,sticky" class="" id="" margin_
 top="" margin_right="" margin_bottom="" margin_left="" fusion_font_family_
 text_font="" fusion_font_variant_text_font="" font_size="" line_height="" 
 letter_spacing="" text_transform="" text_color="" animation_type="" animat
 ion_direction="left" animation_color="" animation_speed="0.3" animation_de
 lay="0" animation_offset="" logics=""]\n\nLes JOBIM\, l'événement annuel
  de la bioinformatique et de la biostatistique francophone\, se tiendront 
 du mardi 8 juillet après-midi au vendredi 11 juillet 2025 midi\, à Talen
 ce\, sur site de l'école ENSEIRB-MATMECA de Bordeaux INP. Nous faisons de
  notre mieux pour vous proposer une conférence accueillante et accessible
  mais aussi dotée d'un programme scientifique dense et de grande qualité
  ! JOBIM 2025 abordera de nombreux champs multidisciplinaires incluant ent
 re autres :\n\n 	Bioinformatique structurale et protéomique\n 	Biologie d
 es systèmes\n 	Génomique évolutive et phylogénie\n 	Génomique fonctio
 nnelle et intégrative\n 	Métagénomique\, métatranscriptomique et écos
 ystèmes microbiens\n 	Méthodes et algorithmes pour les séquences\n 	Rep
 résentation des connaissances\, visualisation et bases de données\n 	Sta
 tistique\, apprentissage automatique et IA pour la biologie et la santé\n
  	Traitement et intégration de données en métabolomique\n 	Workflows\, 
 reproductibilité et science ouverte\n\n[/fusion_text][fusion_button link=
 "https://jobim2025.labri.fr/#registration" title="" target="_blank" link_a
 ttributes="" aria_role_button="0" alignment_medium="" alignment_small="" a
 lignment="left" modal="" hide_on_mobile="small-visibility\,medium-visibili
 ty\,large-visibility" sticky_display="normal\,sticky" class="" id="" color
 ="custom" button_gradient_top_color_hover="" hue="" saturation="" lightnes
 s="" alpha="" button_gradient_top_color="var(--awb-color5)" button_gradien
 t_bottom_color_hover="" button_gradient_bottom_color="var(--awb-color5)" g
 radient_start_position="" gradient_end_position="" gradient_type="" radial
 _direction="" linear_angle="180" accent_hover_color="" accent_color="var(-
 -awb-color1)" type="" bevel_color="" bevel_color_hover="" border_top="3px"
  border_right="3px" border_bottom="3px" border_left="3px" border_radius_to
 p_left="8px" border_radius_top_right="8px" border_radius_bottom_right="8px
 " border_radius_bottom_left="8px" border_hover_color="" border_color="var(
 --awb-color1)" size="" padding_top="" padding_right="" padding_bottom="" p
 adding_left="" fusion_font_family_button_font="" fusion_font_variant_butto
 n_font="" font_size="" line_height="" letter_spacing="" text_transform="" 
 stretch="default" margin_top="" margin_right="" margin_bottom="" margin_le
 ft="" icon="fa-bookmark fas" icon_position="left" icon_divider="no" hover_
 transition="icon_rotate" animation_type="" animation_direction="left" anim
 ation_color="" animation_speed="0.3" animation_delay="0" animation_offset=
 ""]Inscription[/fusion_button][/fusion_builder_column][/fusion_builder_row
 ][/fusion_builder_container]
ATTACH;FMTTYPE=image/jpeg:https://kgso.fr/wp-content/uploads/2025/01/Bande
 au_EVE_Soutien_sd-scaled.jpg
CATEGORIES:0Soutien,Evènement
LOCATION:école ENSEIRB-MATMECA de Bordeaux INP\, 1 Avenue du Dr Albert Sch
 weitzer\, Talence\, 33400\, France
X-APPLE-STRUCTURED-LOCATION;VALUE=URI;X-ADDRESS=1 Avenue du Dr Albert Schwe
 itzer\, Talence\, 33400\, France;X-APPLE-RADIUS=100;X-TITLE=école ENSEIRB
 -MATMECA de Bordeaux INP:geo:0,0
END:VEVENT
BEGIN:VTIMEZONE
TZID:Europe/Paris
X-LIC-LOCATION:Europe/Paris
BEGIN:DAYLIGHT
DTSTART:20250330T030000
TZOFFSETFROM:+0100
TZOFFSETTO:+0200
TZNAME:CEST
END:DAYLIGHT
END:VTIMEZONE
END:VCALENDAR