BEGIN:VCALENDAR
VERSION:2.0
PRODID:-//wp-events-plugin.com//7.2.3.1//EN
TZID:Europe/Paris
X-WR-TIMEZONE:Europe/Paris
BEGIN:VEVENT
UID:96@kgso.fr
DTSTART;TZID=Europe/Paris:20260417T084500
DTEND;TZID=Europe/Paris:20260417T171500
DTSTAMP:20260417T140315Z
URL:https://kgso.fr/events/38eme-jcbs
SUMMARY:38ème Journée toulousaine de Chimie-Biologie-Santé
DESCRIPTION:[fusion_builder_container type="flex" hundred_percent="no" equa
 l_height_columns="no" menu_anchor="" hide_on_mobile="small-visibility\,med
 ium-visibility\,large-visibility" class="" id="" background_color="" backg
 round_image="" background_position="center center" background_repeat="no-r
 epeat" fade="no" background_parallax="none" parallax_speed="0.3" video_mp4
 ="" video_webm="" video_ogv="" video_url="" video_aspect_ratio="16:9" vide
 o_loop="yes" video_mute="yes" overlay_color="" video_preview_image="" bord
 er_color="" border_style="solid" padding_top="" padding_bottom="" padding_
 left="" padding_right="" admin_label="Presentation"][fusion_builder_row][f
 usion_builder_column type="1_2" layout="1_2" align_self="flex-start" conte
 nt_layout="column" align_content="flex-start" valign_content="flex-start" 
 column_gap_medium="" row_gap_medium="" column_gap_small="" row_gap_small="
 " column_gap="" row_gap="" content_wrap="wrap" spacing="yes" center_conten
 t="no" column_tag="div" link="" target="_self" link_description="" min_hei
 ght="" hide_on_mobile="small-visibility\,medium-visibility\,large-visibili
 ty" sticky_display="normal\,sticky" class="" id="" type_medium="" type_sma
 ll="" max_height_medium="" max_height_small="" max_height="" flex_grow_med
 ium="" flex_grow_small="" flex_grow="" flex_shrink_medium="" flex_shrink_s
 mall="" flex_shrink="" order_medium="0" order_small="0" spacing_left_mediu
 m="" spacing_right_medium="" spacing_left_small="" spacing_right_small="" 
 spacing_left="" spacing_right="2%" margin_top_medium="" margin_bottom_medi
 um="" margin_top_small="" margin_bottom_small="" margin_top="0px" margin_b
 ottom="0px" padding_top_medium="" padding_right_medium="" padding_bottom_m
 edium="" padding_left_medium="" padding_top_small="" padding_right_small="
 " padding_bottom_small="" padding_left_small="" padding_top="" padding_rig
 ht="" padding_bottom="" padding_left="" hover_type="none" border_sizes_top
 ="" border_sizes_right="" border_sizes_bottom="" border_sizes_left="" bord
 er_color_hover="" hue="" saturation="" lightness="" alpha="" border_color=
 "" border_style="solid" border_radius_top_left="" border_radius_top_right=
 "" border_radius_bottom_right="" border_radius_bottom_left="" box_shadow="
 no" box_shadow_vertical="" box_shadow_horizontal="" box_shadow_blur="0" bo
 x_shadow_spread="0" box_shadow_color="" box_shadow_style="" z_index_hover=
 "" z_index="" overflow="" background_type="single" background_color_medium
 ="" background_color_small="" background_color_medium_hover="" background_
 color_small_hover="" background_color_hover="" background_color="" gradien
 t_start_color="" gradient_end_color="" gradient_start_position="0" gradien
 t_end_position="100" gradient_type="linear" radial_direction="center cente
 r" linear_angle="180" background_image_medium="" background_image_small=""
  background_image="" background_image_id_medium="" background_image_id_sma
 ll="" background_image_id="" lazy_load="none" skip_lazy_load="" background
 _position_medium="" background_position_small="" background_position="left
  top" background_repeat_medium="" background_repeat_small="" background_re
 peat="no-repeat" background_size_medium="" background_size_small="" backgr
 ound_size="" background_custom_size="" background_custom_size_medium="" ba
 ckground_custom_size_small="" background_blend_mode_medium="" background_b
 lend_mode_small="" background_blend_mode="none" background_slider_images="
 " background_slider_position="" background_slider_skip_lazy_loading="no" b
 ackground_slider_random_order="no" background_slider_loop="yes" background
 _slider_pause_on_hover="no" background_slider_slideshow_speed="5000" backg
 round_slider_animation="fade" background_slider_direction="up" background_
 slider_animation_speed="800" background_slider_blend_mode="" render_logics
 ="" sticky="off" sticky_devices="small-visibility\,medium-visibility\,larg
 e-visibility" sticky_offset="" absolute="off" absolute_top="" absolute_rig
 ht="" absolute_bottom="" absolute_left="" filter_type="regular" filter_hov
 er_element="self" filter_hue_hover="0" filter_saturation_hover="100" filte
 r_brightness_hover="100" filter_contrast_hover="100" filter_invert_hover="
 0" filter_sepia_hover="0" filter_opacity_hover="100" filter_blur_hover="0"
  filter_hue="0" filter_saturation="100" filter_brightness="100" filter_con
 trast="100" filter_invert="0" filter_sepia="0" filter_opacity="100" filter
 _blur="0" transform_type="regular" transform_hover_element="self" transfor
 m_scale_x_hover="1" transform_scale_y_hover="1" transform_translate_x_hove
 r="0" transform_translate_y_hover="0" transform_rotate_hover="0" transform
 _skew_x_hover="0" transform_skew_y_hover="0" transform_scale_x="1" transfo
 rm_scale_y="1" transform_translate_x="0" transform_translate_y="0" transfo
 rm_rotate="0" transform_skew_x="0" transform_skew_y="0" transform_origin="
 " transition_duration="300" transition_easing="ease" transition_custom_eas
 ing="" motion_effects="W10=" scroll_motion_devices="small-visibility\,medi
 um-visibility\,large-visibility" animation_type="" animation_direction="le
 ft" animation_color="" animation_speed="0.3" animation_delay="0" animation
 _offset="" last="false" border_position="all" first="true"][fusion_section
 _separator divider_type="custom" custom_svg="" divider_height_medium="" di
 vider_height_small="" divider_height="30px" divider_repeat_medium="1" divi
 der_repeat_small="1" divider_repeat="1" divider_position="right" divider_c
 andy="top" icon="" icon_color="" hue="" saturation="" lightness="" alpha="
 " bordersize="" bordercolor="" hide_on_mobile="small-visibility\,medium-vi
 sibility\,large-visibility" class="" id="" margin_top="" margin_right="" m
 argin_bottom="" margin_left="" backgroundcolor="#ffffff" render_logics="" 
 /][fusion_text columns="" column_min_width="" column_spacing="" rule_style
 ="" rule_size="" rule_color="" hue="" saturation="" lightness="" alpha="" 
 user_select="" awb-switch-editor-focus="" content_alignment_medium="" cont
 ent_alignment_small="" content_alignment="" disable_idd="no" hide_on_mobil
 e="small-visibility\,medium-visibility\,large-visibility" sticky_display="
 normal\,sticky" class="" id="" html_attributes="W10=" width_medium="" widt
 h_small="" width="" min_width_medium="" min_width_small="" min_width="" ma
 x_width_medium="" max_width_small="" max_width="" margin_top_medium="" mar
 gin_right_medium="" margin_bottom_medium="" margin_left_medium="" margin_t
 op_small="" margin_right_small="" margin_bottom_small="" margin_left_small
 ="" margin_top="" margin_right="" margin_bottom="" margin_left="" fusion_f
 ont_family_text_font="" fusion_font_variant_text_font="" font_size="" line
 _height="" letter_spacing="" text_transform="" text_color="" render_logics
 ="" logics="" animation_type="" animation_direction="left" animation_color
 ="" animation_speed="0.3" animation_delay="0" animation_offset=""]\n\nLa 3
 8ème édition de la Journée scientifique toulousaine de Chimie-Biologie-
 Santé (JCBS) aura lieu le vendredi 17 avril 2026 à l’auditorium Ferna
 nd Gallais sur le campus du 205 route de Narbonne.\n\nElle mettra en avant
  des travaux transdisciplinaires autour de la chimie\, de la biologie et d
 e la santé.\n\nPlusieurs orateurs invités présenteront aussi leurs trav
 aux.\n\n[/fusion_text][fusion_section_separator divider_type="custom" cust
 om_svg="" divider_height_medium="" divider_height_small="" divider_height=
 "20px" divider_repeat_medium="1" divider_repeat_small="1" divider_repeat="
 1" divider_position="right" divider_candy="top" icon="" icon_color="" hue=
 "" saturation="" lightness="" alpha="" bordersize="" bordercolor="" hide_o
 n_mobile="small-visibility\,medium-visibility\,large-visibility" class="" 
 id="" margin_top="" margin_right="" margin_bottom="" margin_left="" backgr
 oundcolor="#ffffff" render_logics="" /][fusion_text columns="" column_min_
 width="" column_spacing="" rule_style="" rule_size="" rule_color="" hue=""
  saturation="" lightness="" alpha="" user_select="" awb-switch-editor-focu
 s="" content_alignment_medium="" content_alignment_small="" content_alignm
 ent="" disable_idd="no" hide_on_mobile="small-visibility\,medium-visibilit
 y\,large-visibility" sticky_display="normal\,sticky" class="" id="" html_a
 ttributes="W10=" width_medium="" width_small="" width="" min_width_medium=
 "" min_width_small="" min_width="" max_width_medium="" max_width_small="" 
 max_width="" margin_top_medium="" margin_right_medium="" margin_bottom_med
 ium="" margin_left_medium="" margin_top_small="" margin_right_small="" mar
 gin_bottom_small="" margin_left_small="" margin_top="" margin_right="" mar
 gin_bottom="" margin_left="" fusion_font_family_text_font="" fusion_font_v
 ariant_text_font="" font_size="" line_height="" letter_spacing="" text_tra
 nsform="" text_color="" render_logics="" logics="" animation_type="" anima
 tion_direction="left" animation_color="" animation_speed="0.3" animation_d
 elay="0" animation_offset=""]\n\nLa participation à ces journées est gra
 tuite et ouverte aux ingénieurs\, chercheurs\, enseignants-chercheurs\, p
 ost-doctorants\, doctorants\, étudiants en master.\n\nUne inscription est
  demandée afin de gérer la logistique des participants.\nContact organis
 ateurs: jcbs.contact@univ-tlse3.fr\n\nDate limite des inscriptions: 3 avri
 l\n\n[/fusion_text][/fusion_builder_column][fusion_builder_column type="1_
 2" layout="1_2" align_self="center" content_layout="column" align_content=
 "flex-start" valign_content="flex-start" column_gap_medium="" row_gap_medi
 um="" column_gap_small="" row_gap_small="" column_gap="" row_gap="" conten
 t_wrap="wrap" spacing="" center_content="no" column_tag="div" link="" targ
 et="_self" link_description="" min_height="" hide_on_mobile="small-visibil
 ity\,medium-visibility\,large-visibility" sticky_display="normal\,sticky" 
 class="" id="" html_attributes="W10=" type_medium="" type_small="" max_hei
 ght_medium="" max_height_small="" max_height="" flex_grow_medium="" flex_g
 row_small="" flex_grow="" flex_shrink_medium="" flex_shrink_small="" flex_
 shrink="" order_medium="0" order_small="0" spacing_left_medium="" spacing_
 right_medium="" spacing_left_small="" spacing_right_small="" spacing_left=
 "" spacing_right="" margin_top_medium="" margin_bottom_medium="" margin_to
 p_small="" margin_bottom_small="" margin_top="" margin_bottom="" padding_t
 op_medium="" padding_right_medium="" padding_bottom_medium="" padding_left
 _medium="" padding_top_small="" padding_right_small="" padding_bottom_smal
 l="" padding_left_small="" padding_top="" padding_right="" padding_bottom=
 "" padding_left="" hover_type="none" border_sizes_top="3px" border_sizes_r
 ight="3px" border_sizes_bottom="3px" border_sizes_left="3px" border_color_
 hover="" hue="" saturation="" lightness="" alpha="" border_color="var(--aw
 b-custom_color_13)" border_style="solid" border_radius_top_left="8px" bord
 er_radius_top_right="8px" border_radius_bottom_right="8px" border_radius_b
 ottom_left="8px" box_shadow="no" box_shadow_vertical="" box_shadow_horizon
 tal="" box_shadow_blur="0" box_shadow_spread="0" box_shadow_color="" box_s
 hadow_style="" z_index_hover="" z_index="" overflow="" background_type="si
 ngle" background_color_medium="" background_color_small="" background_colo
 r_medium_hover="" background_color_small_hover="" background_color_hover="
 " background_color="rgba(255\,153\,102\,0.24)" gradient_start_color="" gra
 dient_end_color="" gradient_start_position="0" gradient_end_position="100"
  gradient_type="linear" radial_direction="center center" linear_angle="180
 " background_image_medium="" background_image_small="" background_image=""
  background_image_id_medium="" background_image_id_small="" background_ima
 ge_id="" lazy_load="none" skip_lazy_load="" background_position_medium="" 
 background_position_small="" background_position="left top" background_rep
 eat_medium="" background_repeat_small="" background_repeat="no-repeat" bac
 kground_size_medium="" background_size_small="" background_size="" backgro
 und_custom_size="" background_custom_size_medium="" background_custom_size
 _small="" background_blend_mode_medium="" background_blend_mode_small="" b
 ackground_blend_mode="none" background_slider_images="" background_slider_
 position="" background_slider_skip_lazy_loading="no" background_slider_ran
 dom_order="no" background_slider_loop="yes" background_slider_pause_on_hov
 er="no" background_slider_slideshow_speed="5000" background_slider_animati
 on="fade" background_slider_direction="up" background_slider_animation_spe
 ed="800" background_slider_blend_mode="" render_logics="" sticky="on" stic
 ky_devices="small-visibility\,medium-visibility\,large-visibility" sticky_
 offset="30px" absolute="off" absolute_top="" absolute_right="" absolute_bo
 ttom="" absolute_left="" filter_type="regular" filter_hover_element="self"
  filter_hue_hover="0" filter_saturation_hover="100" filter_brightness_hove
 r="100" filter_contrast_hover="100" filter_invert_hover="0" filter_sepia_h
 over="0" filter_opacity_hover="100" filter_blur_hover="0" filter_hue="0" f
 ilter_saturation="100" filter_brightness="100" filter_contrast="100" filte
 r_invert="0" filter_sepia="0" filter_opacity="100" filter_blur="0" transfo
 rm_type="regular" transform_hover_element="self" transform_scale_x_hover="
 1" transform_scale_y_hover="1" transform_translate_x_hover="0" transform_t
 ranslate_y_hover="0" transform_rotate_hover="0" transform_skew_x_hover="0"
  transform_skew_y_hover="0" transform_scale_x="1" transform_scale_y="1" tr
 ansform_translate_x="0" transform_translate_y="0" transform_rotate="0" tra
 nsform_skew_x="0" transform_skew_y="0" transform_origin="" transition_dura
 tion="300" transition_easing="ease" transition_custom_easing="" motion_eff
 ects="W10=" scroll_motion_devices="small-visibility\,medium-visibility\,la
 rge-visibility" animation_type="" animation_direction="left" animation_col
 or="" animation_speed="0.3" animation_delay="0" animation_offset="" last="
 true" border_position="all" first="false"][fusion_section_separator divide
 r_type="custom" custom_svg="" divider_height_medium="" divider_height_smal
 l="" divider_height="30px" divider_repeat_medium="1" divider_repeat_small=
 "1" divider_repeat="1" divider_position="right" divider_candy="top" icon="
 " icon_color="" hue="" saturation="" lightness="" alpha="" bordersize="" b
 ordercolor="" hide_on_mobile="small-visibility\,medium-visibility\,large-v
 isibility" class="" id="" margin_top="" margin_right="" margin_bottom="" m
 argin_left="" backgroundcolor="#ffffff" render_logics="" /][fusion_imagefr
 ame image_id="4976|full" aspect_ratio="" custom_aspect_ratio="60" aspect_r
 atio_position="" fetch_priority="" skip_lazy_load="" lightbox="no" gallery
 _id="" lightbox_image="" lightbox_image_id="" alt="" link="" linktarget="_
 self" hide_on_mobile="small-visibility\,medium-visibility\,large-visibilit
 y" sticky_display="normal\,sticky" class="" id="" html_attributes="W10=" m
 ax_width="500px" sticky_max_width="" align_medium="none" align_small="none
 " align="center" mask="" custom_mask="" mask_size="" mask_custom_size="" m
 ask_position="" mask_custom_position="" mask_repeat="" style_type="" blur=
 "" stylecolor="" hue="" saturation="" lightness="" alpha="" hover_type="no
 ne" magnify_full_img="" magnify_duration="120" scroll_height="100" scroll_
 speed="1" margin_top_medium="" margin_right_medium="" margin_bottom_medium
 ="" margin_left_medium="" margin_top_small="" margin_right_small="" margin
 _bottom_small="" margin_left_small="" margin_top="" margin_right="" margin
 _bottom="" margin_left="" bordersize="" bordercolor="" borderradius="" z_i
 ndex="" caption_style="off" caption_align_medium="none" caption_align_smal
 l="none" caption_align="none" caption_title="" caption_text="" caption_tit
 le_tag="2" fusion_font_family_caption_title_font="" fusion_font_variant_ca
 ption_title_font="" caption_title_size="" caption_title_line_height="" cap
 tion_title_letter_spacing="" caption_title_transform="" caption_title_colo
 r="" caption_background_color="" fusion_font_family_caption_text_font="" f
 usion_font_variant_caption_text_font="" caption_text_size="" caption_text_
 line_height="" caption_text_letter_spacing="" caption_text_transform="" ca
 ption_text_color="" caption_border_color="" caption_overlay_color="" capti
 on_margin_top="" caption_margin_right="" caption_margin_bottom="" caption_
 margin_left="" render_logics="" animation_type="" animation_direction="lef
 t" animation_color="" animation_speed="0.3" animation_delay="0" animation_
 offset="" filter_hue="0" filter_saturation="100" filter_brightness="100" f
 ilter_contrast="100" filter_invert="0" filter_sepia="0" filter_opacity="10
 0" filter_blur="0" filter_hue_hover="0" filter_saturation_hover="100" filt
 er_brightness_hover="100" filter_contrast_hover="100" filter_invert_hover=
 "0" filter_sepia_hover="0" filter_opacity_hover="100" filter_blur_hover="0
 "]https://kgso.fr/wp-content/uploads/2026/03/JCBS_2026_PGM_sd.png[/fusion_
 imageframe][fusion_section_separator divider_type="custom" custom_svg="" d
 ivider_height_medium="" divider_height_small="" divider_height="20px" divi
 der_repeat_medium="1" divider_repeat_small="1" divider_repeat="1" divider_
 position="right" divider_candy="top" icon="" icon_color="" hue="" saturati
 on="" lightness="" alpha="" bordersize="" bordercolor="" hide_on_mobile="s
 mall-visibility\,medium-visibility\,large-visibility" class="" id="" margi
 n_top="" margin_right="" margin_bottom="" margin_left="" backgroundcolor="
 #ffffff" render_logics="" /][fusion_button link="https://kgso.fr/wp-conten
 t/uploads/2026/03/JCBS_2026_PGM.pdf" enable_hover_text_icon="no" hover_tex
 t="" title="" target="_blank" link_attributes="" aria_role_button="0" alig
 nment_medium="" alignment_small="" alignment="center" modal="" hide_on_mob
 ile="small-visibility\,medium-visibility\,large-visibility" sticky_display
 ="normal\,sticky" class="" id="" html_attributes="W10=" color="custom" but
 ton_gradient_top_color_hover="" hue="" saturation="" lightness="" alpha=""
  button_gradient_top_color="var(--awb-custom_color_13)" button_gradient_bo
 ttom_color_hover="" button_gradient_bottom_color="var(--awb-custom_color_1
 3)" gradient_start_position="" gradient_end_position="" gradient_type="" r
 adial_direction="" linear_angle="180" accent_hover_color="" accent_color="
 var(--awb-color1)" type="" bevel_color="" bevel_color_hover="" border_top=
 "3px" border_right="3px" border_bottom="3px" border_left="3px" border_radi
 us_top_left="8px" border_radius_top_right="8px" border_radius_bottom_right
 ="8px" border_radius_bottom_left="8px" border_hover_color="" border_color=
 "var(--awb-color1)" size="" padding_top="" padding_right="" padding_bottom
 ="" padding_left="" fusion_font_family_button_font="" fusion_font_variant_
 button_font="" font_size="" line_height="" letter_spacing="" text_transfor
 m="" stretch="default" margin_top="" margin_right="" margin_bottom="" marg
 in_left="" icon="fa-book-open fas" hover_icon="" icon_position="left" icon
 _divider="no" hover_transition="icon_position" render_logics="" animation_
 type="" animation_direction="left" animation_color="" animation_speed="0.3
 " animation_delay="0" animation_offset=""]Programme[/fusion_button][fusion
 _section_separator divider_type="custom" custom_svg="" divider_height_medi
 um="" divider_height_small="" divider_height="20px" divider_repeat_medium=
 "1" divider_repeat_small="1" divider_repeat="1" divider_position="right" d
 ivider_candy="top" icon="" icon_color="" hue="" saturation="" lightness=""
  alpha="" bordersize="" bordercolor="" hide_on_mobile="small-visibility\,m
 edium-visibility\,large-visibility" class="" id="" margin_top="" margin_ri
 ght="" margin_bottom="" margin_left="" backgroundcolor="#ffffff" render_lo
 gics="" /][fusion_button link="https://intranet.canceropole-gso.org/manife
 station/96/registration/new" enable_hover_text_icon="no" hover_text="" tit
 le="" target="_blank" link_attributes="" aria_role_button="0" alignment_me
 dium="" alignment_small="" alignment="center" modal="" hide_on_mobile="sma
 ll-visibility\,medium-visibility\,large-visibility" sticky_display="normal
 \,sticky" class="" id="" html_attributes="W10=" color="custom" button_grad
 ient_top_color_hover="" hue="" saturation="" lightness="" alpha="" button_
 gradient_top_color="var(--awb-custom_color_10)" button_gradient_bottom_col
 or_hover="" button_gradient_bottom_color="var(--awb-custom_color_13)" grad
 ient_start_position="" gradient_end_position="" gradient_type="" radial_di
 rection="" linear_angle="180" accent_hover_color="" accent_color="var(--aw
 b-color1)" type="" bevel_color="" bevel_color_hover="" border_top="3px" bo
 rder_right="3px" border_bottom="3px" border_left="3px" border_radius_top_l
 eft="8px" border_radius_top_right="8px" border_radius_bottom_right="8px" b
 order_radius_bottom_left="8px" border_hover_color="" border_color="var(--a
 wb-color1)" size="" padding_top="" padding_right="" padding_bottom="" padd
 ing_left="" fusion_font_family_button_font="" fusion_font_variant_button_f
 ont="" font_size="" line_height="" letter_spacing="" text_transform="" str
 etch="default" margin_top="" margin_right="" margin_bottom="" margin_left=
 "" icon="fa-bookmark fas" hover_icon="" icon_position="left" icon_divider=
 "no" hover_transition="icon_rotate" render_logics="" animation_type="" ani
 mation_direction="left" animation_color="" animation_speed="0.3" animation
 _delay="0" animation_offset=""]Inscription[/fusion_button][fusion_section_
 separator divider_type="custom" custom_svg="" divider_height_medium="" div
 ider_height_small="" divider_height="30px" divider_repeat_medium="1" divid
 er_repeat_small="1" divider_repeat="1" divider_position="right" divider_ca
 ndy="top" icon="" icon_color="" hue="" saturation="" lightness="" alpha=""
  bordersize="" bordercolor="" hide_on_mobile="small-visibility\,medium-vis
 ibility\,large-visibility" class="" id="" margin_top="" margin_right="" ma
 rgin_bottom="" margin_left="" backgroundcolor="#ffffff" render_logics="" /
 ][/fusion_builder_column][/fusion_builder_row][/fusion_builder_container]
ATTACH;FMTTYPE=image/jpeg:https://kgso.fr/wp-content/uploads/2025/01/Bande
 au_EVE_Soutien_sd-scaled.jpg
CATEGORIES:0Soutien,Chimie et Cancer,Evènement
LOCATION:Laboratoire de chimie de coordination\, 205 Rte de Narbonne\, Toul
 ouse\, 31400 \, France
X-APPLE-STRUCTURED-LOCATION;VALUE=URI;X-ADDRESS=205 Rte de Narbonne\, Toulo
 use\, 31400 \, France;X-APPLE-RADIUS=100;X-TITLE=Laboratoire de chimie de 
 coordination:geo:0,0
END:VEVENT
BEGIN:VTIMEZONE
TZID:Europe/Paris
X-LIC-LOCATION:Europe/Paris
BEGIN:DAYLIGHT
DTSTART:20260329T030000
TZOFFSETFROM:+0100
TZOFFSETTO:+0200
TZNAME:CEST
END:DAYLIGHT
END:VTIMEZONE
END:VCALENDAR